BEGIN:VCALENDAR
VERSION:2.0
PRODID:-//Rays of Care Kenya - ECPv6.3.3.1//NONSGML v1.0//EN
CALSCALE:GREGORIAN
METHOD:PUBLISH
X-WR-CALNAME:Rays of Care Kenya
X-ORIGINAL-URL:https://beta.raysofcarekenya.co.ke
X-WR-CALDESC:Events for Rays of Care Kenya
REFRESH-INTERVAL;VALUE=DURATION:PT1H
X-Robots-Tag:noindex
X-PUBLISHED-TTL:PT1H
BEGIN:VTIMEZONE
TZID:UTC
BEGIN:STANDARD
TZOFFSETFROM:+0000
TZOFFSETTO:+0000
TZNAME:UTC
DTSTART:20230101T000000
END:STANDARD
END:VTIMEZONE
BEGIN:VEVENT
DTSTART;TZID=UTC:20231017T080000
DTEND;TZID=UTC:20231113T170000
DTSTAMP:20260421T231633
CREATED:20230523T173942Z
LAST-MODIFIED:20231017T174757Z
UID:1146-1697529600-1699894800@beta.raysofcarekenya.co.ke
SUMMARY:Jiggers Day
DESCRIPTION:Join us for Jiggers Day\, a community-driven event dedicated to eradicating jigger infestations and promoting overall foot health. Jiggers\, tiny parasitic sand fleas\, can cause immense pain and discomfort to those affected. Together\, we can make a difference and provide relief to those in need.
URL:https://beta.raysofcarekenya.co.ke/event/jiggers-day/
LOCATION:Nairobi\, Nairobi\, Kenya
CATEGORIES:Events
END:VEVENT
END:VCALENDAR